BEGIN:VCALENDAR
VERSION:2.0
PRODID:-//Diabetes Education Services - ECPv6.15.17.1//NONSGML v1.0//EN
CALSCALE:GREGORIAN
METHOD:PUBLISH
X-WR-CALNAME:Diabetes Education Services
X-ORIGINAL-URL:https://diabetesed.net
X-WR-CALDESC:Events for Diabetes Education Services
REFRESH-INTERVAL;VALUE=DURATION:PT1H
X-Robots-Tag:noindex
X-PUBLISHED-TTL:PT1H
BEGIN:VTIMEZONE
TZID:America/Los_Angeles
BEGIN:DAYLIGHT
TZOFFSETFROM:-0800
TZOFFSETTO:-0700
TZNAME:PDT
DTSTART:20250309T100000
END:DAYLIGHT
BEGIN:STANDARD
TZOFFSETFROM:-0700
TZOFFSETTO:-0800
TZNAME:PST
DTSTART:20251102T090000
END:STANDARD
BEGIN:DAYLIGHT
TZOFFSETFROM:-0800
TZOFFSETTO:-0700
TZNAME:PDT
DTSTART:20260308T100000
END:DAYLIGHT
BEGIN:STANDARD
TZOFFSETFROM:-0700
TZOFFSETTO:-0800
TZNAME:PST
DTSTART:20261101T090000
END:STANDARD
BEGIN:DAYLIGHT
TZOFFSETFROM:-0800
TZOFFSETTO:-0700
TZNAME:PDT
DTSTART:20270314T100000
END:DAYLIGHT
BEGIN:STANDARD
TZOFFSETFROM:-0700
TZOFFSETTO:-0800
TZNAME:PST
DTSTART:20271107T090000
END:STANDARD
END:VTIMEZONE
BEGIN:VEVENT
DTSTART;TZID=America/Los_Angeles:20260220T113000
DTEND;TZID=America/Los_Angeles:20260220T133000
DTSTAMP:20260420T043206
CREATED:20260216T211611Z
LAST-MODIFIED:20260216T211722Z
UID:76753-1771587000-1771594200@diabetesed.net
SUMMARY:Coach Bev's Virtual Book Launch: Healing Through Connection
DESCRIPTION:
URL:https://diabetesed.net/event/coach-bevs-virtual-book-launch-healing-through-connection/
CATEGORIES:Live Webinars
ATTACH;FMTTYPE=image/png:https://diabetesed.net/wp-content/uploads/2026/02/Book-Launch-4v2-1.avif
END:VEVENT
END:VCALENDAR